BEGIN:VCALENDAR
VERSION:2.0
PRODID:-//Riverfront Readings - ECPv6.6.4.2//NONSGML v1.0//EN
CALSCALE:GREGORIAN
METHOD:PUBLISH
X-WR-CALNAME:Riverfront Readings
X-ORIGINAL-URL:https://riverfrontreadings.com
X-WR-CALDESC:Events for Riverfront Readings
REFRESH-INTERVAL;VALUE=DURATION:PT1H
X-Robots-Tag:noindex
X-PUBLISHED-TTL:PT1H
BEGIN:VTIMEZONE
TZID:America/Chicago
BEGIN:DAYLIGHT
TZOFFSETFROM:-0600
TZOFFSETTO:-0500
TZNAME:CDT
DTSTART:20250309T080000
END:DAYLIGHT
BEGIN:STANDARD
TZOFFSETFROM:-0500
TZOFFSETTO:-0600
TZNAME:CST
DTSTART:20251102T070000
END:STANDARD
END:VTIMEZONE
BEGIN:VEVENT
DTSTART;TZID=America/Chicago:20250413T150000
DTEND;TZID=America/Chicago:20250413T163000
DTSTAMP:20260420T234902
CREATED:20250330T160114Z
LAST-MODIFIED:20250330T160114Z
UID:489-1744556400-1744561800@riverfrontreadings.com
SUMMARY:Riverfront Readings Sunday\, April 13th
DESCRIPTION:Please join us for our April 13th reading featuring Susan Carman\, Bob Sykora\, and Patricia Cleary Miller. \nSusan Carman is a Pushcart Prize nominee and former poetry editor for Kansas City Voices. Her poetry has appeared in numerous publications\, most recently in 1-70 Review\, Kansas City Voices\, and the anthology Of Our Own Accord. Retired from a career working with vulnerable populations\, she now teaches English to new immigrants. \n  \n  \nBob Sykora is the author of the chapbook / Was Talking About Love-You Are Talking About Geography (Nostrovia! 2016) and the collection Utopians in Love (Game Over Books 2025). A graduate of the UMass Boston MFA program\, he teaches at community college\, edits with Garden Party Collective\, co-hosts The Line Break podcast and curates the KC Poetry Calendar. \n  \n  \nPatricia Cleary Miller taught literature and creative writing at Rockhurst University for three decades. She founded and edited The Rockhurst Review\, and chaired the English Department and the Humanities Division. Her poetry collections\, with BkMk Press\, are Starting a Swan Dive\, Can You Smell the Rain? and Warmer Than Yesterday\, and\, with Helicon Nine\, the chapbook Dresden. She was a founding board member of The Writers Place and served as president.
URL:https://riverfrontreadings.com/event/riverfront-readings-sunday-april-13th/
LOCATION:Flagship Books\, 510 N. 6th Street\, Kansas City\, KS\, 66101\, United States
CATEGORIES:Riverfront Events
END:VEVENT
END:VCALENDAR